BEGIN:VCALENDAR
VERSION:2.0
PRODID:-//Rieter Management AG//Calendar//EN
BEGIN:VEVENT
UID:news-261@www.graf-companies.com
DTSTAMP:20260415T110051Z
DTSTART:20260818T080000
DTEND:20260818T080000
SUMMARY:年巴西国际纺织及制衣机械展览会
DESCRIPTION:日期：2026年8月18日至21日
 \n地点：布卢梅瑙（巴西）
 \n展位：1号展区，121号展位
END:VEVENT
END:VCALENDAR
