BEGIN:VCALENDAR
VERSION:2.0
PRODID:-//Rieter Management AG//Calendar//EN
BEGIN:VEVENT
UID:news-2176@www.graf-companies.com
DTSTAMP:20260325T153112Z
DTSTART:20260421T080000
DTEND:20260421T080000
SUMMARY:Techtextil
DESCRIPTION:Tarih: 21-24 Nisan, 2025
 \nYer: Frankfurt (Almanya)
 \nStand: Hol 12, Stand B01
END:VEVENT
END:VCALENDAR
