BEGIN:VCALENDAR
VERSION:2.0
PRODID:-//Rieter Management AG//Calendar//EN
BEGIN:VEVENT
UID:news-261@www.graf-companies.com
DTSTAMP:20260415T110051Z
DTSTART:20260818T080000
DTEND:20260818T080000
SUMMARY:FEBRATEX
DESCRIPTION:Datum: 18. bis 21. August 2026
 \nOrt: Blumenau (Brasilien)
 \nStand: Bereich 1, Stand 121
END:VEVENT
END:VCALENDAR
